BEGIN:VCALENDAR
VERSION:2.0
PRODID:-//kommunaljutsu.org//NONSGML v1.0//EN
METHOD:PUBLISH
CALSCALE:GREGORIAN
BEGIN:VEVENT
UID:https://www.st-peter-judenburg.gv.at/veranstaltungen/murwaldwande
 rung-am-01-mai-2026-um-1000-uhr/
DTSTAMP:20260422T091901Z
DTSTART:20260501T080000Z
DTEND:20260501T140000Z
LOCATION:
DESCRIPTION:
URL;VALUE=URI:
SUMMARY:murwaldwanderung-am-01-mai-2026-um-1000-uhr
BEGIN:VALARM
TRIGGER;VALUE=DATE-TIME:20260430T130000Z
ACTION:DISPLAY
DESCRIPTION:ALARM
END:VALARM
END:VEVENT
END:VCALENDAR
