BEGIN:VCALENDAR
VERSION:2.0
PRODID:-//kommunaljutsu.org//NONSGML v1.0//EN
METHOD:PUBLISH
CALSCALE:GREGORIAN
BEGIN:VEVENT
UID:https://www.st-peter-judenburg.gv.at/veranstaltungen/judenburger-
 theater-in-der-mauer-surftraining-fuer-anfaengerinnen-2/
DTSTAMP:20260425T195418Z
DTSTART:20260509T173000Z
DTEND:20260509T200000Z
LOCATION:
DESCRIPTION:
URL;VALUE=URI:
SUMMARY:judenburger-theater-in-der-mauer-surftraining-fuer-anfaengeri
 nnen-2
BEGIN:VALARM
TRIGGER;VALUE=DATE-TIME:20260508T130000Z
ACTION:DISPLAY
DESCRIPTION:ALARM
END:VALARM
END:VEVENT
END:VCALENDAR
